BEGIN:VCALENDAR
VERSION:2.0
PRODID:-//Library Market//iCal Export//EN
BEGIN:VEVENT
SUMMARY:Toddler Time
UID:36989
DTSTAMP:20260420T104000Z
DTSTART:20260723T143000Z
DTEND:20260723T150000Z
LOCATION:Portsmouth Public Library, 175 Parrott Ave, Portsmouth , NH 03801
 , United States
ROOM: Levenson Room
DESCRIPTION:Toddler Story Time is recommended for two and three year olds 
 and their caregivers and will feature stories, singing, puppets, playing a
 nd more! THERE IS NO STORY TIME ON JUNE 25!
URL:https://portsmouthpl.librarycalendar.com/event/toddler-time-36989
END:VEVENT
END:VCALENDAR
