BEGIN:VCALENDAR
VERSION:2.0
PRODID:-//Library Market//iCal Export//EN
BEGIN:VEVENT
SUMMARY:Toddler Time
UID:36988
DTSTAMP:20260419T163600Z
DTSTART:20260716T143000Z
DTEND:20260716T150000Z
LOCATION:Portsmouth Public Library, 175 Parrott Ave, Portsmouth , NH 03801
 , United States
ROOM: Levenson Room
DESCRIPTION:Toddler Story Time is recommended for two and three year olds 
 and their caregivers and will feature stories, singing, puppets, playing a
 nd more! THERE IS NO STORY TIME ON JUNE 25!
URL:https://portsmouthpl.librarycalendar.com/event/toddler-time-36988
END:VEVENT
END:VCALENDAR
